BEGIN:VCALENDAR
VERSION:2.0
PRODID:-//wp-events-plugin.com//7.2.3.1//EN
TZID:Europe/Amsterdam
X-WR-TIMEZONE:Europe/Amsterdam
BEGIN:VEVENT
UID:3089@manta.nl
DTSTART;TZID=Europe/Amsterdam:20230710T193000
DTEND;TZID=Europe/Amsterdam:20230710T220000
DTSTAMP:20230615T205410Z
URL:https://www.manta.nl/events/zomeravondduiken-2023-vinkeveen-ze1/
SUMMARY:Zomeravondduiken 2023 - Vinkeveen ZE1
DESCRIPTION:Dat andere eiland\n\nWe hebben jullie voor jullie een 12-tal mo
 oie duikstekken geselecteerd\n\n\n\nwe verzamelen om 19:30 dan hebben we g
 enoeg tijd om even bij te kletsen\, buddy indeling te maken en te genieten
  van een mooie zomeravond duik. Dat we om 20:00 het water in kunnen plonse
 n\n\n&nbsp\;\n\n
ATTACH;FMTTYPE=image/jpeg:https://www.manta.nl/wp-content/uploads/2023/06/
 Zomeravondduiken.jpg
CATEGORIES:Duiken,Funduik
LOCATION:Vinkeveen Zandeiland 1\, Vinkenkade 75\, 3645 AP Vinkeveen\, Vinke
 veen\, Utrecht\, 3645 AP\, Nederland
GEO:52.249677;4.96382
X-APPLE-STRUCTURED-LOCATION;VALUE=URI;X-ADDRESS=Vinkenkade 75\, 3645 AP Vin
 keveen\, Vinkeveen\, Utrecht\, 3645 AP\, Nederland;X-APPLE-RADIUS=100;X-TI
 TLE=Vinkeveen Zandeiland 1:geo:52.249677,4.96382
END:VEVENT
BEGIN:VTIMEZONE
TZID:Europe/Amsterdam
X-LIC-LOCATION:Europe/Amsterdam
BEGIN:DAYLIGHT
DTSTART:20230326T030000
TZOFFSETFROM:+0100
TZOFFSETTO:+0200
TZNAME:CEST
END:DAYLIGHT
END:VTIMEZONE
END:VCALENDAR