BEGIN:VCALENDAR
VERSION:2.0
PRODID:-//wp-events-plugin.com//7.2.3.1//EN
TZID:Europe/Amsterdam
X-WR-TIMEZONE:Europe/Amsterdam
BEGIN:VEVENT
UID:3131@manta.nl
DTSTART;TZID=Europe/Amsterdam:20231127T213000
DTEND;TZID=Europe/Amsterdam:20231127T223000
DTSTAMP:20230907T195050Z
URL:https://www.manta.nl/events/manta-zwembad-sloterparkbad-50-meter-bad-d
 iep-2023-11-27/
SUMMARY:MANTA ZWEMBAD - Sloterparkbad: 50 meter bad diep
DESCRIPTION:Sloterparkbad: 50 meter bad diep\n\n 	21:30 – 21:45 Centrale 
 Training\n 	21:45 – 22:30 Duikopleidingen\n 	21:30 - 22:30 Recreaten baa
 n\n 	21:30 – 22:30 Onderwater Hockey\n\nKleedkamers\n\n 	Heren kleedkame
 r 5 &amp\; 7\n 	Dames kleedkamer 6 &amp\; 8\n
ATTACH;FMTTYPE=image/jpeg:https://www.manta.nl/wp-content/uploads/2020/03/
 11954545_862720570444288_8098958023976660270_n.png
CATEGORIES:Duiken
LOCATION:Sloterparkbad\, President Allendelaan 3\, Amsterdam\, 1064 GW \, N
 ederland
GEO:52.36995229999999;4.8174454999999625
X-APPLE-STRUCTURED-LOCATION;VALUE=URI;X-ADDRESS=President Allendelaan 3\, A
 msterdam\, 1064 GW \, Nederland;X-APPLE-RADIUS=100;X-TITLE=Sloterparkbad:g
 eo:52.36995229999999,4.8174454999999625
END:VEVENT
BEGIN:VTIMEZONE
TZID:Europe/Amsterdam
X-LIC-LOCATION:Europe/Amsterdam
BEGIN:STANDARD
DTSTART:20231029T020000
TZOFFSETFROM:+0200
TZOFFSETTO:+0100
TZNAME:CET
END:STANDARD
END:VTIMEZONE
END:VCALENDAR