BEGIN:VCALENDAR
VERSION:2.0
PRODID:-//wp-events-plugin.com//7.2.3.1//EN
TZID:Europe/Amsterdam
X-WR-TIMEZONE:Europe/Amsterdam
BEGIN:VEVENT
UID:711@manta.nl
DTSTART;TZID=Europe/Amsterdam:20180108T200000
DTEND;TZID=Europe/Amsterdam:20180108T223000
DTSTAMP:20171205T181334Z
URL:https://www.manta.nl/events/2875/
SUMMARY:ZWEMBAD
DESCRIPTION:Opleiding\n\n 	Snorkel training - Trimmen en opstijgingen\n 	21
 :o0 verzamelen in kleedkamer\n 	aanmelden via de WhatsApp Manta Maandag @
 M\n\nManta heeft de volgende tijden\n\n 	20:00              Voor de
  sportievelingen rondje Sloterplas (6 km informatie bij Rick)\n 	21:10   
            Kunnen we verzamelen op de waterrand\n 	21:15 - 21:30 Spr
 ingkuil - Centrale training voor Opleiding &amp\; OWH &amp\; Recreanten\n 
 	21:30 - 22:15  Springkuil - Opleiding &amp\; Recreanten\n 	21:30 - 22:3
 0  50 meter bad diep - OWH\n\nKleedkamers:\n\n 	Kamer 3 Heren kleedkamer\
 n 	Kamer 5 Dames kleedkamer\n
CATEGORIES:Algemeen,Duiken,OWH
LOCATION:Sloterparkbad\, President Allendelaan 3\, Amsterdam\, 1064 GW \, N
 ederland
GEO:52.36995229999999;4.8174454999999625
X-APPLE-STRUCTURED-LOCATION;VALUE=URI;X-ADDRESS=President Allendelaan 3\, A
 msterdam\, 1064 GW \, Nederland;X-APPLE-RADIUS=100;X-TITLE=Sloterparkbad:g
 eo:52.36995229999999,4.8174454999999625
END:VEVENT
BEGIN:VTIMEZONE
TZID:Europe/Amsterdam
X-LIC-LOCATION:Europe/Amsterdam
BEGIN:STANDARD
DTSTART:20171029T020000
TZOFFSETFROM:+0200
TZOFFSETTO:+0100
TZNAME:CET
END:STANDARD
END:VTIMEZONE
END:VCALENDAR